BEGIN:VCALENDAR
VERSION:2.0
PRODID:-//eventon.com NONSGML v1.0//EN
BEGIN:VEVENT
UID:69e8a4bd1287c
DTSTAMP:20260422T123645
DTSTART:20260422T173000Z
DTEND:20260422T193000Z
LOCATION:Klassenraum 
SUMMARY:Elternabend 4. Klasse Herr Pelzer / Frau Gahrmann
DESCRIPTION: Elternabend 4. Klasse Herr Pelzer / Frau Gahrmann
END:VEVENT
END:VCALENDAR